BEGIN:VCALENDAR
VERSION:2.0
PRODID:-//FingerLakes.com - ECPv6.15.20//NONSGML v1.0//EN
CALSCALE:GREGORIAN
METHOD:PUBLISH
X-WR-CALNAME:FingerLakes.com
X-ORIGINAL-URL:https://www.fingerlakes.com
X-WR-CALDESC:Events for FingerLakes.com
REFRESH-INTERVAL;VALUE=DURATION:PT1H
X-Robots-Tag:noindex
X-PUBLISHED-TTL:PT1H
BEGIN:VTIMEZONE
TZID:America/New_York
BEGIN:DAYLIGHT
TZOFFSETFROM:-0500
TZOFFSETTO:-0400
TZNAME:EDT
DTSTART:20250309T070000
END:DAYLIGHT
BEGIN:STANDARD
TZOFFSETFROM:-0400
TZOFFSETTO:-0500
TZNAME:EST
DTSTART:20251102T060000
END:STANDARD
BEGIN:DAYLIGHT
TZOFFSETFROM:-0500
TZOFFSETTO:-0400
TZNAME:EDT
DTSTART:20260308T070000
END:DAYLIGHT
BEGIN:STANDARD
TZOFFSETFROM:-0400
TZOFFSETTO:-0500
TZNAME:EST
DTSTART:20261101T060000
END:STANDARD
BEGIN:DAYLIGHT
TZOFFSETFROM:-0500
TZOFFSETTO:-0400
TZNAME:EDT
DTSTART:20270314T070000
END:DAYLIGHT
BEGIN:STANDARD
TZOFFSETFROM:-0400
TZOFFSETTO:-0500
TZNAME:EST
DTSTART:20271107T060000
END:STANDARD
END:VTIMEZONE
BEGIN:VEVENT
DTSTART;TZID=America/New_York:20260422T160000
DTEND;TZID=America/New_York:20260422T160000
DTSTAMP:20260422T065140
CREATED:20260313T180844Z
LAST-MODIFIED:20260313T184230Z
UID:10000465-1776873600-1776873600@www.fingerlakes.com
SUMMARY:Pint Night at Genesee Brew House
DESCRIPTION:Enjoy a free pint glass when you enjoy the selected beer at Genesee Brew House’s Pint Night.
URL:https://www.fingerlakes.com/flx-event/pint-night-at-genesee-brew-house-16/
END:VEVENT
BEGIN:VEVENT
DTSTART;TZID=America/New_York:20260422T170000
DTEND;TZID=America/New_York:20260422T170000
DTSTAMP:20260422T065140
CREATED:20260313T180910Z
LAST-MODIFIED:20260313T184303Z
UID:10000466-1776877200-1776877200@www.fingerlakes.com
SUMMARY:Live Music at Ventosa Vineyards
DESCRIPTION:Enjoy live music at Ventosa Vineyards performed by Ryan Sutherland.
URL:https://www.fingerlakes.com/flx-event/live-music-at-ventosa-vineyards-45/
END:VEVENT
END:VCALENDAR